BEGIN:VCALENDAR
VERSION:2.0
METHOD:PUBLISH
BEGIN:VEVENT
UID:WILD_APRICOT_EVENT_3557873_SESSION_1
DTSTART:20191226T053000Z
DTEND:20191226T053000Z
SUMMARY:OTB Racing - Christmas Cup Pacer Challenge
LOCATION:FYC
DESCRIPTION:https://www.flindersyc.com.au/event-3557873\n\n\n\n
DTSTAMP:20260424T173919Z
END:VEVENT
END:VCALENDAR
