BEGIN:VCALENDAR
VERSION:2.0
METHOD:PUBLISH
BEGIN:VEVENT
UID:WILD_APRICOT_EVENT_3557874_SESSION_1
DTSTART:20191226T220000Z
DTEND:20191226T220000Z
SUMMARY:Mobile Boatshed at Flinders Day 1
LOCATION:FYC
DESCRIPTION:https://www.flindersyc.com.au/event-3557874\n\n\n\n
DTSTAMP:20260424T171610Z
END:VEVENT
END:VCALENDAR
