BEGIN:VCALENDAR
VERSION:2.0
METHOD:PUBLISH
BEGIN:VEVENT
UID:WILD_APRICOT_EVENT_3557875_SESSION_1
DTSTART:20191227T220000Z
DTEND:20191227T220000Z
SUMMARY:Mobile Boatshed at Flinders Day 2
LOCATION:FYC
DESCRIPTION:https://www.flindersyc.com.au/event-3557875\n\n\n\n
DTSTAMP:20260424T160545Z
END:VEVENT
END:VCALENDAR
