BEGIN:VCALENDAR
VERSION:2.0
METHOD:PUBLISH
BEGIN:VEVENT
UID:WILD_APRICOT_EVENT_3557876_SESSION_1
DTSTART:20191228T220000Z
DTEND:20191228T220000Z
SUMMARY:Mobile Boatshed at Flinders Day 3
LOCATION:FYC
DESCRIPTION:https://www.flindersyc.com.au/event-3557876\n\n\n\n
DTSTAMP:20260424T173806Z
END:VEVENT
END:VCALENDAR
