BEGIN:VCALENDAR
VERSION:2.0
METHOD:PUBLISH
BEGIN:VEVENT
UID:WILD_APRICOT_EVENT_3557882_SESSION_1
DTSTART:20191230T220000Z
DTEND:20191230T220000Z
SUMMARY:Mobile Boatshed at Flinders Day 5
LOCATION:FYC
DESCRIPTION:https://www.flindersyc.com.au/event-3557882\n\n\n\n
DTSTAMP:20260424T171440Z
END:VEVENT
END:VCALENDAR
