BEGIN:VCALENDAR
VERSION:2.0
METHOD:PUBLISH
BEGIN:VEVENT
UID:WILD_APRICOT_EVENT_3557886_SESSION_1
DTSTART:20200104T013000Z
DTEND:20200104T013000Z
SUMMARY:Adventure Sail to Balnarring
LOCATION:FYC
DESCRIPTION:https://www.flindersyc.com.au/event-3557886\n\n\n\n
DTSTAMP:20260424T160131Z
END:VEVENT
END:VCALENDAR
