BEGIN:VCALENDAR
VERSION:2.0
METHOD:PUBLISH
BEGIN:VEVENT
UID:WILD_APRICOT_EVENT_3557887_SESSION_1
DTSTART:20200104T220000Z
DTEND:20200104T220000Z
SUMMARY:Western Port Teams Racing Championship
LOCATION:Westernport YC
DESCRIPTION:https://www.flindersyc.com.au/event-3557887\n\n\n\n
DTSTAMP:20260424T171328Z
END:VEVENT
END:VCALENDAR
