BEGIN:VCALENDAR
VERSION:2.0
METHOD:PUBLISH
BEGIN:VEVENT
UID:WILD_APRICOT_EVENT_3557888_SESSION_1
DTSTART:20200106T000000Z
DTEND:20200106T000000Z
SUMMARY:Adventure Sail - Return from Balnarring
LOCATION:Westernport YC
DESCRIPTION:https://www.flindersyc.com.au/event-3557888\n\n\n\n
DTSTAMP:20260424T183120Z
END:VEVENT
END:VCALENDAR
