BEGIN:VCALENDAR
VERSION:2.0
METHOD:PUBLISH
BEGIN:VEVENT
UID:WILD_APRICOT_EVENT_3557890_SESSION_1
DTSTART:20200108T023000Z
DTEND:20200108T023000Z
SUMMARY:OTB Racing Summer Cup 5 & 6 Junior Champs 3 & 4
LOCATION:FYC
DESCRIPTION:https://www.flindersyc.com.au/event-3557890\n\n\n\n
DTSTAMP:20260424T155948Z
END:VEVENT
END:VCALENDAR
