BEGIN:VCALENDAR
VERSION:2.0
METHOD:PUBLISH
BEGIN:VEVENT
UID:WILD_APRICOT_EVENT_3572539_SESSION_1
DTSTART:20191027T000000Z
DTEND:20191027T040000Z
SUMMARY:FYC Working Bee 2019-2020
LOCATION:FLINDERS YACHT CLUB
DESCRIPTION:https://www.flindersyc.com.au/event-3572539\n\nFLINDERS YACHT CLUB Working Bee From 11:00AM \n\n
DTSTAMP:20260424T160435Z
END:VEVENT
END:VCALENDAR
