BEGIN:VCALENDAR
VERSION:2.0
METHOD:PUBLISH
BEGIN:VEVENT
UID:WILD_APRICOT_EVENT_3572545_SESSION_1
DTSTART:20191103T000000Z
DTEND:20191103T053000Z
SUMMARY:Open Day Lunch
LOCATION:FLINDERS YACHT CLUB
DESCRIPTION:https://www.flindersyc.com.au/event-3572545\n\nFLINDERS YACHT CLUB Open Day Lunch and Sailing from 2:30PM\n\n
DTSTAMP:20260424T191145Z
END:VEVENT
END:VCALENDAR
