BEGIN:VCALENDAR
VERSION:2.0
METHOD:PUBLISH
BEGIN:VEVENT
UID:WILD_APRICOT_EVENT_3572557_SESSION_1
DTSTART:20191230T070000Z
DTEND:20191230T070000Z
SUMMARY:Junior Beach Party
LOCATION:FLINDERS YACHT CLUB
DESCRIPTION:https://www.flindersyc.com.au/event-3572557\n\nJunior Beach Party\n\n
DTSTAMP:20260424T155939Z
END:VEVENT
END:VCALENDAR
