BEGIN:VCALENDAR
VERSION:2.0
METHOD:PUBLISH
BEGIN:VEVENT
UID:WILD_APRICOT_EVENT_3572570_SESSION_1
DTSTART:20200116T070000Z
DTEND:20200116T070000Z
SUMMARY:Children's Movie Night
LOCATION:
DESCRIPTION:https://www.flindersyc.com.au/event-3572570\n\n\n\n
DTSTAMP:20260424T160008Z
END:VEVENT
END:VCALENDAR
