BEGIN:VCALENDAR
VERSION:2.0
METHOD:PUBLISH
BEGIN:VEVENT
UID:WILD_APRICOT_EVENT_3572577_SESSION_1
DTSTART:20200215T070000Z
DTEND:20200215T070000Z
SUMMARY:Postponed: Family Quiz Night
LOCATION:FLINDERS YACHT CLUB
DESCRIPTION:https://www.flindersyc.com.au/event-3572577\n\nPostponed until further notice.\n
DTSTAMP:20260424T160043Z
END:VEVENT
END:VCALENDAR
