BEGIN:VCALENDAR
VERSION:2.0
METHOD:PUBLISH
BEGIN:VEVENT
UID:WILD_APRICOT_EVENT_3586516_SESSION_1
DTSTART:20191201T020000Z
DTEND:20191201T020000Z
SUMMARY:KB Cruise Sail 1
LOCATION:FYC
DESCRIPTION:https://www.flindersyc.com.au/event-3586516\n\n \n
DTSTAMP:20260424T160605Z
END:VEVENT
END:VCALENDAR
