BEGIN:VCALENDAR
VERSION:2.0
METHOD:PUBLISH
BEGIN:VEVENT
UID:WILD_APRICOT_EVENT_3586520_SESSION_1
DTSTART:20200101T020000Z
DTEND:20200101T020000Z
SUMMARY:KB Cruise Sail 2
LOCATION:FYC
DESCRIPTION:https://www.flindersyc.com.au/event-3586520\n\n \n
DTSTAMP:20260424T160555Z
END:VEVENT
END:VCALENDAR
