BEGIN:VCALENDAR
VERSION:2.0
METHOD:PUBLISH
BEGIN:VEVENT
UID:WILD_APRICOT_EVENT_3586523_SESSION_1
DTSTART:20200105T020000Z
DTEND:20200105T020000Z
SUMMARY:KB Racing - Aggregate 3
LOCATION:FYC
DESCRIPTION:https://www.flindersyc.com.au/event-3586523\n\n \n
DTSTAMP:20260424T170941Z
END:VEVENT
END:VCALENDAR
