BEGIN:VCALENDAR
VERSION:2.0
METHOD:PUBLISH
BEGIN:VEVENT
UID:WILD_APRICOT_EVENT_3586534_SESSION_1
DTSTART:20200119T020000Z
DTEND:20200119T020000Z
SUMMARY:KB Racing - Aggregate 5
LOCATION:FYC
DESCRIPTION:https://www.flindersyc.com.au/event-3586534\n\n \n
DTSTAMP:20260424T171003Z
END:VEVENT
END:VCALENDAR
