BEGIN:VCALENDAR
VERSION:2.0
METHOD:PUBLISH
BEGIN:VEVENT
UID:WILD_APRICOT_EVENT_3586546_SESSION_1
DTSTART:20200131T063000Z
DTEND:20200131T063000Z
SUMMARY:KB Racing - JAN Twilight 5
LOCATION:FYC
DESCRIPTION:https://www.flindersyc.com.au/event-3586546\n\n \n
DTSTAMP:20260424T160004Z
END:VEVENT
END:VCALENDAR
