BEGIN:VCALENDAR
VERSION:2.0
METHOD:PUBLISH
BEGIN:VEVENT
UID:WILD_APRICOT_EVENT_3593068_SESSION_1
DTSTART:20191128T050000Z
DTEND:20191128T090000Z
SUMMARY:Private Function
LOCATION:clubhouse
DESCRIPTION:https://www.flindersyc.com.au/event-3593068\n\n\n\n
DTSTAMP:20260424T162528Z
END:VEVENT
END:VCALENDAR
