BEGIN:VCALENDAR
VERSION:2.0
METHOD:PUBLISH
BEGIN:VEVENT
UID:WILD_APRICOT_EVENT_3643431_SESSION_1
DTSTART:20191210T080000Z
DTEND:20191210T110000Z
SUMMARY:Private Function
LOCATION:clubhouse
DESCRIPTION:https://www.flindersyc.com.au/event-3643431\n\n\n\n
DTSTAMP:20260424T171834Z
END:VEVENT
END:VCALENDAR
