BEGIN:VCALENDAR
VERSION:2.0
METHOD:PUBLISH
BEGIN:VEVENT
UID:WILD_APRICOT_EVENT_3643435_SESSION_1
DTSTART:20191129T220000Z
DTEND:20191210T070000Z
SUMMARY:Visiting Sailing Group
LOCATION:clubhouse
DESCRIPTION:https://www.flindersyc.com.au/event-3643435\n\n\n\n
DTSTAMP:20260424T174252Z
END:VEVENT
END:VCALENDAR
